BEGIN:VCALENDAR
VERSION:2.0
PRODID:-//IP.Board Calendar 4.5.4.2//EN
METHOD:PUBLISH
CALSCALE:GREGORIAN
X-WR-CALNAME:Community Calendar
BEGIN:VTIMEZONE
TZID:Europe/London
TZURL:http://tzurl.org/zoneinfo/Europe/London
X-LIC-LOCATION:Europe/London
BEGIN:DAYLIGHT
TZOFFSETFROM:+0000
TZOFFSETTO:+0100
TZNAME:BST
DTSTART:20210328T020000Z
RRULE:FREQ=YEARLY;BYMONTH=3;BYDAY=-1SU
END:DAYLIGHT
BEGIN:STANDARD
TZOFFSETFROM:+0100
TZOFFSETTO:+0000
TZNAME:GMT
DTSTART:20211031T020000Z
RRULE:FREQ=YEARLY;BYMONTH=10;BYDAY=-1SU
END:STANDARD
END:VTIMEZONE
BEGIN:VEVENT
SUMMARY:HumEng Conversations
DTSTAMP:20201108T040248Z
SEQUENCE:0
UID:25-1-63c3430853c64ec90bfdd952df169630@humeng.engineersaustralia.org.au
ORGANIZER;CN="Scott Daniel":humeng@engineersaustralia.org.au
DESCRIPTION:\n	Our HumEng Conversations series will resume for 2021 on F
	ebruary 8\, 12-1 pm.\n\n\n\n	Details TBC\n
DTSTART:20210208T010000Z
DTEND:20210208T020000Z
END:VEVENT
END:VCALENDAR
