BEGIN:VCALENDAR
VERSION:2.0
PRODID:-//IP.Board Calendar 4.5.4.2//EN
METHOD:PUBLISH
CALSCALE:GREGORIAN
X-WR-CALNAME:Community Calendar
BEGIN:VTIMEZONE
TZID:Europe/London
TZURL:http://tzurl.org/zoneinfo/Europe/London
X-LIC-LOCATION:Europe/London
BEGIN:DAYLIGHT
TZOFFSETFROM:+0000
TZOFFSETTO:+0100
TZNAME:BST
DTSTART:20200329T020000Z
RRULE:FREQ=YEARLY;BYMONTH=3;BYDAY=-1SU
END:DAYLIGHT
BEGIN:STANDARD
TZOFFSETFROM:+0100
TZOFFSETTO:+0000
TZNAME:GMT
DTSTART:20201025T020000Z
RRULE:FREQ=YEARLY;BYMONTH=10;BYDAY=-1SU
END:STANDARD
END:VTIMEZONE
BEGIN:VEVENT
SUMMARY:EWB Webinar: Evolving Technical Professionals
DTSTAMP:20201126T233220Z
SEQUENCE:0
UID:27-1-63c3430853c64ec90bfdd952df169630@humeng.engineersaustralia.org.au
ORGANIZER;CN="Jeremy Smith":humeng@engineersaustralia.org.au
DESCRIPTION:\n	For 17 years EWB Australia has been nurturing the growth 
	of ‘humanitarian engineering’ through education.\n\n\n\n	We have culti
	vated and activated a movement of new-look engineers. They are future-fit 
	professionals\, grounded with a community-first mindset and equipped with 
	activated social and technical skills.\n\n\n\n	They are capable of sensiti
	vely ideating solutions for global issues\, at all levels. Yet we live and
	 learn within structures and power imbalances that reinforce the very issu
	es we are trying to solve. \n\n\n\n	How can we support individuals\, orga
	nisations and the sector to be enabled to act\, so that we have the best c
	hance of a future that is regenerative\, inclusive and whole?\n\n\n\n	Deta
	ils and registration here -- https://www.ewb.org.au/get-involved/events/e
	volving-technical-professionals-webinar/\n
DTSTART:20201210T070000Z
DTEND:20201210T081500Z
END:VEVENT
END:VCALENDAR
